BEGIN:VCALENDAR
VERSION:2.0
PRODID:-//Windsor Essex Hospice - ECPv6.15.20//NONSGML v1.0//EN
CALSCALE:GREGORIAN
METHOD:PUBLISH
X-WR-CALNAME:Windsor Essex Hospice
X-ORIGINAL-URL:https://www.thehospice.ca
X-WR-CALDESC:Events for Windsor Essex Hospice
REFRESH-INTERVAL;VALUE=DURATION:PT1H
X-Robots-Tag:noindex
X-PUBLISHED-TTL:PT1H
BEGIN:VTIMEZONE
TZID:America/Toronto
BEGIN:DAYLIGHT
TZOFFSETFROM:-0500
TZOFFSETTO:-0400
TZNAME:EDT
DTSTART:20240310T070000
END:DAYLIGHT
BEGIN:STANDARD
TZOFFSETFROM:-0400
TZOFFSETTO:-0500
TZNAME:EST
DTSTART:20241103T060000
END:STANDARD
BEGIN:DAYLIGHT
TZOFFSETFROM:-0500
TZOFFSETTO:-0400
TZNAME:EDT
DTSTART:20250309T070000
END:DAYLIGHT
BEGIN:STANDARD
TZOFFSETFROM:-0400
TZOFFSETTO:-0500
TZNAME:EST
DTSTART:20251102T060000
END:STANDARD
BEGIN:DAYLIGHT
TZOFFSETFROM:-0500
TZOFFSETTO:-0400
TZNAME:EDT
DTSTART:20260308T070000
END:DAYLIGHT
BEGIN:STANDARD
TZOFFSETFROM:-0400
TZOFFSETTO:-0500
TZNAME:EST
DTSTART:20261101T060000
END:STANDARD
END:VTIMEZONE
BEGIN:VEVENT
DTSTART;TZID=America/Toronto:20250505T100000
DTEND;TZID=America/Toronto:20250505T113000
DTSTAMP:20260421T131533
CREATED:20220307T164131Z
LAST-MODIFIED:20241129T151018Z
UID:10003765-1746439200-1746444600@www.thehospice.ca
SUMMARY:W - Knit/Crochet-Along
DESCRIPTION:Virtually and Onsite at the Windsor Campus\n  \nOpportunity to relax and meet others who share similar interests\, while learning/enhancing a skill. \n  \nCriteria: Hospice Volunteer Services and Wellness Programs are offered to patients and caregivers diagnosed with a life-threatening illness within the past two years. Programs & Services are provided by qualified Hospice Volunteers\, and all Hospice programs and services are offered free of charge to clients in our community \nDate(s): Mondays\, 10:00 AM – 11:30 AM\, Weekly \nLocation: Virtually and Onsite at the Windsor Campus \nRegistration: 519-974-7100
URL:https://www.thehospice.ca/event/knit-crochet-along/2025-05-05/
LOCATION:Windsor Campus\, 6038 Empress Street\, Windsor\, Ontario\, N8T1B5\, Canada
CATEGORIES:Volunteer-Led Programs
ATTACH;FMTTYPE=image/jpeg:https://www.thehospice.ca/wp-content/uploads/2022/03/knit-a-long.jpg
END:VEVENT
BEGIN:VEVENT
DTSTART;TZID=America/Toronto:20250512T100000
DTEND;TZID=America/Toronto:20250512T113000
DTSTAMP:20260421T131533
CREATED:20220307T164131Z
LAST-MODIFIED:20241129T151018Z
UID:10003766-1747044000-1747049400@www.thehospice.ca
SUMMARY:W - Knit/Crochet-Along
DESCRIPTION:Virtually and Onsite at the Windsor Campus\n  \nOpportunity to relax and meet others who share similar interests\, while learning/enhancing a skill. \n  \nCriteria: Hospice Volunteer Services and Wellness Programs are offered to patients and caregivers diagnosed with a life-threatening illness within the past two years. Programs & Services are provided by qualified Hospice Volunteers\, and all Hospice programs and services are offered free of charge to clients in our community \nDate(s): Mondays\, 10:00 AM – 11:30 AM\, Weekly \nLocation: Virtually and Onsite at the Windsor Campus \nRegistration: 519-974-7100
URL:https://www.thehospice.ca/event/knit-crochet-along/2025-05-12/
LOCATION:Windsor Campus\, 6038 Empress Street\, Windsor\, Ontario\, N8T1B5\, Canada
CATEGORIES:Volunteer-Led Programs
ATTACH;FMTTYPE=image/jpeg:https://www.thehospice.ca/wp-content/uploads/2022/03/knit-a-long.jpg
END:VEVENT
BEGIN:VEVENT
DTSTART;TZID=America/Toronto:20250516T100000
DTEND;TZID=America/Toronto:20250516T113000
DTSTAMP:20260421T131533
CREATED:20241105T164625Z
LAST-MODIFIED:20250528T192536Z
UID:10005869-1747389600-1747395000@www.thehospice.ca
SUMMARY:ES - Good Grief Café: Psychoeducational Support Group
DESCRIPTION:Onsite Only at the Erie Shores Welcome Centre.\nThe purpose of the Good Grief Café is to provide an opportunity for participants to listen and share with one another about their experiences and challenges while grieving a loved one. They will be held once a month in a casual setting where coffee\, tea\, and snacks will be provided\, under the facilitation of the Spiritual Care Coordinator. \n  \nCriteria: This group is open to adults (18 and over) who have lost a significant other and were involved in palliative or Hospice care within the last year\, either in the community or at the Hospice Residence \nDates: Jan. 17 | Feb. 21 | Mar. 21 | Apr. 25 | May 16 | June 20 | July 18 | Aug. 15 | Sept. 19 | Oct. 17 | Nov. 21 | Dec. 19 \nTime: 10:00 AM – 11:30 AM \nLocation: Hospice\, Erie Shores Campus – Welcome Centre \nMaximum Participants: 10-12 participants; participants can join for any or all sessions \n  \nFor more information or to register\, please call (519) 974-7100.
URL:https://www.thehospice.ca/event/es-good-grief-cafe-2025/2025-05-16/
LOCATION:Erie Shores Campus Welcome Centre\, 197 Talbot Street West\, Leamington\, Ontario\, N8H 1N8
CATEGORIES:Staff-Led Programs
ATTACH;FMTTYPE=image/jpeg:https://www.thehospice.ca/wp-content/uploads/2024/01/Good-Grief-Web-Header-ES.jpg
END:VEVENT
BEGIN:VEVENT
DTSTART;TZID=America/Toronto:20250519T100000
DTEND;TZID=America/Toronto:20250519T113000
DTSTAMP:20260421T131533
CREATED:20220307T164131Z
LAST-MODIFIED:20241129T151018Z
UID:10003767-1747648800-1747654200@www.thehospice.ca
SUMMARY:W - Knit/Crochet-Along
DESCRIPTION:Virtually and Onsite at the Windsor Campus\n  \nOpportunity to relax and meet others who share similar interests\, while learning/enhancing a skill. \n  \nCriteria: Hospice Volunteer Services and Wellness Programs are offered to patients and caregivers diagnosed with a life-threatening illness within the past two years. Programs & Services are provided by qualified Hospice Volunteers\, and all Hospice programs and services are offered free of charge to clients in our community \nDate(s): Mondays\, 10:00 AM – 11:30 AM\, Weekly \nLocation: Virtually and Onsite at the Windsor Campus \nRegistration: 519-974-7100
URL:https://www.thehospice.ca/event/knit-crochet-along/2025-05-19/
LOCATION:Windsor Campus\, 6038 Empress Street\, Windsor\, Ontario\, N8T1B5\, Canada
CATEGORIES:Volunteer-Led Programs
ATTACH;FMTTYPE=image/jpeg:https://www.thehospice.ca/wp-content/uploads/2022/03/knit-a-long.jpg
END:VEVENT
BEGIN:VEVENT
DTSTART;TZID=America/Toronto:20250526T100000
DTEND;TZID=America/Toronto:20250526T113000
DTSTAMP:20260421T131533
CREATED:20220307T164131Z
LAST-MODIFIED:20241129T151018Z
UID:10003768-1748253600-1748259000@www.thehospice.ca
SUMMARY:W - Knit/Crochet-Along
DESCRIPTION:Virtually and Onsite at the Windsor Campus\n  \nOpportunity to relax and meet others who share similar interests\, while learning/enhancing a skill. \n  \nCriteria: Hospice Volunteer Services and Wellness Programs are offered to patients and caregivers diagnosed with a life-threatening illness within the past two years. Programs & Services are provided by qualified Hospice Volunteers\, and all Hospice programs and services are offered free of charge to clients in our community \nDate(s): Mondays\, 10:00 AM – 11:30 AM\, Weekly \nLocation: Virtually and Onsite at the Windsor Campus \nRegistration: 519-974-7100
URL:https://www.thehospice.ca/event/knit-crochet-along/2025-05-26/
LOCATION:Windsor Campus\, 6038 Empress Street\, Windsor\, Ontario\, N8T1B5\, Canada
CATEGORIES:Volunteer-Led Programs
ATTACH;FMTTYPE=image/jpeg:https://www.thehospice.ca/wp-content/uploads/2022/03/knit-a-long.jpg
END:VEVENT
BEGIN:VEVENT
DTSTART;TZID=America/Toronto:20250528T110000
DTEND;TZID=America/Toronto:20250528T130000
DTSTAMP:20260421T131533
CREATED:20250106T185530Z
LAST-MODIFIED:20250106T185552Z
UID:10005848-1748430000-1748437200@www.thehospice.ca
SUMMARY:W - Beyond the Plate: Cooking for One
DESCRIPTION:The purpose of this group is to provide the components of a grief support group in a culinary setting.  Participants will learn a set of skills that promote healthy grieving techniques for discovering meaning and purpose in coping with a new daily reality. The workshops include help with meal planning and preparation\, grocery shopping\, eating alone\, and many other areas that can trigger grief. This series runs monthly on the last Wednesday of each month (with some exceptions). \n  \nCriteria: Individuals who have experienced a death within the last year. \nDate(s): Jan. 29 | Feb. 26 | Mar. 26 | Apr. 30 | May 28 | June 25 | Sept. 24 | Oct. 29 | Nov. 26 \nLocation: Onsite Only at the Windsor Campus \nRegistration: This is a closed group. Please call 519-974-7100 to register.
URL:https://www.thehospice.ca/event/beyond-the-plate-2025/2025-05-28/
LOCATION:Windsor Campus\, 6038 Empress Street\, Windsor\, Ontario\, N8T1B5\, Canada
CATEGORIES:Staff-Led Programs
ATTACH;FMTTYPE=image/jpeg:https://www.thehospice.ca/wp-content/uploads/2022/09/Website-Header-1-scaled.jpg
END:VEVENT
BEGIN:VEVENT
DTSTART;TZID=America/Toronto:20250528T120000
DTEND;TZID=America/Toronto:20250528T140000
DTSTAMP:20260421T131533
CREATED:20250424T193844Z
LAST-MODIFIED:20250611T165508Z
UID:10005890-1748433600-1748440800@www.thehospice.ca
SUMMARY:ES - Beyond the Plate: Cooking For One
DESCRIPTION:The purpose of this group is to provide the components of a grief support group in a culinary setting.  Participants will learn a set of skills that promote healthy grieving techniques for discovering meaning and purpose in coping with a new daily reality. The workshops include help with meal planning and preparation\, grocery shopping\, eating alone\, and many other areas that can trigger grief. \n  \nCriteria: Participants who have experienced a death within the last year. \nDates: Apr. 30 | May 28 | July 23 \nTime: 12:00 PM – 2:00 PM \nLocation: Onsite Only at the Erie Shores Campus – Welcome Centre \nMaximum Number of Participants: 5 \nRegistration: This is a closed group. Please call 519-974-7100 to register.
URL:https://www.thehospice.ca/event/es-beyond-the-plate-cooking-for-one-2025/2025-05-28/
LOCATION:Erie Shores Campus Welcome Centre\, 197 Talbot Street West\, Leamington\, Ontario\, N8H 1N8
CATEGORIES:Staff-Led Programs
ATTACH;FMTTYPE=image/jpeg:https://www.thehospice.ca/wp-content/uploads/2024/01/Beyond-the-Plate-Cooking-for-One-Erie-Shores-2024-Web-Header.jpg
END:VEVENT
BEGIN:VEVENT
DTSTART;TZID=America/Toronto:20250529T130000
DTEND;TZID=America/Toronto:20250529T150000
DTSTAMP:20260421T131533
CREATED:20250528T135641Z
LAST-MODIFIED:20260401T202117Z
UID:10010052-1748523600-1748530800@www.thehospice.ca
SUMMARY:ES - Knitting & Crocheting
DESCRIPTION:Onsite ONLY at the Erie Shores Campus\n  \nOpportunity to relax and meet others who share similar interests\, while learning/enhancing a skill. \n  \nCriteria: Hospice Volunteer Services and Wellness Programs are offered to patients and caregivers diagnosed with a life-threatening illness within the past two years. Programs & Services are provided by qualified Hospice Volunteers\, and all Hospice programs and services are offered free of charge to clients in our community \nDate(s): Thursdays\, 1:00 PM – 3:00 PM\, Weekly \nLocation: Onsite ONLY at the Erie Shores Campus \nRegistration: 519-974-7100
URL:https://www.thehospice.ca/event/es-knitting-crocheting/2025-05-29/
LOCATION:Erie Shores Campus\, 197 Talbot Street West\, Suite 701\, Leamington\, Ontario\, N8H 1N8\, Canada
CATEGORIES:Volunteer-Led Programs
ATTACH;FMTTYPE=image/jpeg:https://www.thehospice.ca/wp-content/uploads/2022/03/knitting.jpg
END:VEVENT
END:VCALENDAR