BEGIN:VCALENDAR
VERSION:2.0
PRODID:-//Windsor Essex Hospice - ECPv6.15.20//NONSGML v1.0//EN
CALSCALE:GREGORIAN
METHOD:PUBLISH
X-WR-CALNAME:Windsor Essex Hospice
X-ORIGINAL-URL:https://www.thehospice.ca
X-WR-CALDESC:Events for Windsor Essex Hospice
REFRESH-INTERVAL;VALUE=DURATION:PT1H
X-Robots-Tag:noindex
X-PUBLISHED-TTL:PT1H
BEGIN:VTIMEZONE
TZID:America/Toronto
BEGIN:DAYLIGHT
TZOFFSETFROM:-0500
TZOFFSETTO:-0400
TZNAME:EDT
DTSTART:20230312T070000
END:DAYLIGHT
BEGIN:STANDARD
TZOFFSETFROM:-0400
TZOFFSETTO:-0500
TZNAME:EST
DTSTART:20231105T060000
END:STANDARD
BEGIN:DAYLIGHT
TZOFFSETFROM:-0500
TZOFFSETTO:-0400
TZNAME:EDT
DTSTART:20240310T070000
END:DAYLIGHT
BEGIN:STANDARD
TZOFFSETFROM:-0400
TZOFFSETTO:-0500
TZNAME:EST
DTSTART:20241103T060000
END:STANDARD
BEGIN:DAYLIGHT
TZOFFSETFROM:-0500
TZOFFSETTO:-0400
TZNAME:EDT
DTSTART:20250309T070000
END:DAYLIGHT
BEGIN:STANDARD
TZOFFSETFROM:-0400
TZOFFSETTO:-0500
TZNAME:EST
DTSTART:20251102T060000
END:STANDARD
END:VTIMEZONE
BEGIN:VEVENT
DTSTART;TZID=America/Toronto:20240506T100000
DTEND;TZID=America/Toronto:20240506T113000
DTSTAMP:20260421T104200
CREATED:20220307T164131Z
LAST-MODIFIED:20241129T151018Z
UID:10001525-1714989600-1714995000@www.thehospice.ca
SUMMARY:W - Knit/Crochet-Along
DESCRIPTION:Virtually and Onsite at the Windsor Campus\n  \nOpportunity to relax and meet others who share similar interests\, while learning/enhancing a skill. \n  \nCriteria: Hospice Volunteer Services and Wellness Programs are offered to patients and caregivers diagnosed with a life-threatening illness within the past two years. Programs & Services are provided by qualified Hospice Volunteers\, and all Hospice programs and services are offered free of charge to clients in our community \nDate(s): Mondays\, 10:00 AM – 11:30 AM\, Weekly \nLocation: Virtually and Onsite at the Windsor Campus \nRegistration: 519-974-7100
URL:https://www.thehospice.ca/event/knit-crochet-along/2024-05-06/
LOCATION:Windsor Campus\, 6038 Empress Street\, Windsor\, Ontario\, N8T1B5\, Canada
CATEGORIES:Volunteer-Led Programs
ATTACH;FMTTYPE=image/jpeg:https://www.thehospice.ca/wp-content/uploads/2022/03/knit-a-long.jpg
END:VEVENT
BEGIN:VEVENT
DTSTART;TZID=America/Toronto:20240513T100000
DTEND;TZID=America/Toronto:20240513T113000
DTSTAMP:20260421T104200
CREATED:20220307T164131Z
LAST-MODIFIED:20241129T151018Z
UID:10001526-1715594400-1715599800@www.thehospice.ca
SUMMARY:W - Knit/Crochet-Along
DESCRIPTION:Virtually and Onsite at the Windsor Campus\n  \nOpportunity to relax and meet others who share similar interests\, while learning/enhancing a skill. \n  \nCriteria: Hospice Volunteer Services and Wellness Programs are offered to patients and caregivers diagnosed with a life-threatening illness within the past two years. Programs & Services are provided by qualified Hospice Volunteers\, and all Hospice programs and services are offered free of charge to clients in our community \nDate(s): Mondays\, 10:00 AM – 11:30 AM\, Weekly \nLocation: Virtually and Onsite at the Windsor Campus \nRegistration: 519-974-7100
URL:https://www.thehospice.ca/event/knit-crochet-along/2024-05-13/
LOCATION:Windsor Campus\, 6038 Empress Street\, Windsor\, Ontario\, N8T1B5\, Canada
CATEGORIES:Volunteer-Led Programs
ATTACH;FMTTYPE=image/jpeg:https://www.thehospice.ca/wp-content/uploads/2022/03/knit-a-long.jpg
END:VEVENT
BEGIN:VEVENT
DTSTART;TZID=America/Toronto:20240520T100000
DTEND;TZID=America/Toronto:20240520T113000
DTSTAMP:20260421T104200
CREATED:20220307T164131Z
LAST-MODIFIED:20241129T151018Z
UID:10001527-1716199200-1716204600@www.thehospice.ca
SUMMARY:W - Knit/Crochet-Along
DESCRIPTION:Virtually and Onsite at the Windsor Campus\n  \nOpportunity to relax and meet others who share similar interests\, while learning/enhancing a skill. \n  \nCriteria: Hospice Volunteer Services and Wellness Programs are offered to patients and caregivers diagnosed with a life-threatening illness within the past two years. Programs & Services are provided by qualified Hospice Volunteers\, and all Hospice programs and services are offered free of charge to clients in our community \nDate(s): Mondays\, 10:00 AM – 11:30 AM\, Weekly \nLocation: Virtually and Onsite at the Windsor Campus \nRegistration: 519-974-7100
URL:https://www.thehospice.ca/event/knit-crochet-along/2024-05-20/
LOCATION:Windsor Campus\, 6038 Empress Street\, Windsor\, Ontario\, N8T1B5\, Canada
CATEGORIES:Volunteer-Led Programs
ATTACH;FMTTYPE=image/jpeg:https://www.thehospice.ca/wp-content/uploads/2022/03/knit-a-long.jpg
END:VEVENT
BEGIN:VEVENT
DTSTART;TZID=America/Toronto:20240527T100000
DTEND;TZID=America/Toronto:20240527T113000
DTSTAMP:20260421T104200
CREATED:20220307T164131Z
LAST-MODIFIED:20241129T151018Z
UID:10001528-1716804000-1716809400@www.thehospice.ca
SUMMARY:W - Knit/Crochet-Along
DESCRIPTION:Virtually and Onsite at the Windsor Campus\n  \nOpportunity to relax and meet others who share similar interests\, while learning/enhancing a skill. \n  \nCriteria: Hospice Volunteer Services and Wellness Programs are offered to patients and caregivers diagnosed with a life-threatening illness within the past two years. Programs & Services are provided by qualified Hospice Volunteers\, and all Hospice programs and services are offered free of charge to clients in our community \nDate(s): Mondays\, 10:00 AM – 11:30 AM\, Weekly \nLocation: Virtually and Onsite at the Windsor Campus \nRegistration: 519-974-7100
URL:https://www.thehospice.ca/event/knit-crochet-along/2024-05-27/
LOCATION:Windsor Campus\, 6038 Empress Street\, Windsor\, Ontario\, N8T1B5\, Canada
CATEGORIES:Volunteer-Led Programs
ATTACH;FMTTYPE=image/jpeg:https://www.thehospice.ca/wp-content/uploads/2022/03/knit-a-long.jpg
END:VEVENT
END:VCALENDAR