BEGIN:VCALENDAR
VERSION:2.0
PRODID:-//Windsor Essex Hospice - ECPv6.15.20//NONSGML v1.0//EN
CALSCALE:GREGORIAN
METHOD:PUBLISH
X-WR-CALNAME:Windsor Essex Hospice
X-ORIGINAL-URL:https://www.thehospice.ca
X-WR-CALDESC:Events for Windsor Essex Hospice
REFRESH-INTERVAL;VALUE=DURATION:PT1H
X-Robots-Tag:noindex
X-PUBLISHED-TTL:PT1H
BEGIN:VTIMEZONE
TZID:America/Toronto
BEGIN:DAYLIGHT
TZOFFSETFROM:-0500
TZOFFSETTO:-0400
TZNAME:EDT
DTSTART:20230312T070000
END:DAYLIGHT
BEGIN:STANDARD
TZOFFSETFROM:-0400
TZOFFSETTO:-0500
TZNAME:EST
DTSTART:20231105T060000
END:STANDARD
BEGIN:DAYLIGHT
TZOFFSETFROM:-0500
TZOFFSETTO:-0400
TZNAME:EDT
DTSTART:20240310T070000
END:DAYLIGHT
BEGIN:STANDARD
TZOFFSETFROM:-0400
TZOFFSETTO:-0500
TZNAME:EST
DTSTART:20241103T060000
END:STANDARD
BEGIN:DAYLIGHT
TZOFFSETFROM:-0500
TZOFFSETTO:-0400
TZNAME:EDT
DTSTART:20250309T070000
END:DAYLIGHT
BEGIN:STANDARD
TZOFFSETFROM:-0400
TZOFFSETTO:-0500
TZNAME:EST
DTSTART:20251102T060000
END:STANDARD
END:VTIMEZONE
BEGIN:VEVENT
DTSTART;TZID=America/Toronto:20240816T100000
DTEND;TZID=America/Toronto:20240816T113000
DTSTAMP:20260421T170944
CREATED:20240111T180011Z
LAST-MODIFIED:20240624T162552Z
UID:10005398-1723802400-1723807800@www.thehospice.ca
SUMMARY:ES - Good Grief Café: Psychoeducational Support Group
DESCRIPTION:Onsite Only at the Erie Shores Welcome Centre.\nThe purpose of the Good Grief Café is to provide an opportunity for participants to listen and share with one another about their experiences and challenges while grieving a loved one. They will be held once a month in a casual setting where coffee\, tea\, and snacks will be provided\, under the facilitation of the Spiritual Care Coordinator. \n  \nCriteria: This group is open to adults (18 and over) who have lost a significant other and were involved in palliative or Hospice care within the last year\, either in the community or at the Hospice Residence \nDates: Jan. 19 | Feb. 16 | Mar. 15 | Apr. 19 | May 17 | Jun. 21 | Jul. 19 | Aug. 16 | Oct. 18 | Nov. 15 | Dec. 2 (Please note: no group in August/September) \nTime: 10:00 AM – 11:30 AM \nLocation: Hospice\, Erie Shores Campus – Welcome Centre \n  \nFor more information or to register\, please call (519) 974-7100.
URL:https://www.thehospice.ca/event/es-good-grief-cafe-2024/2024-08-16/
LOCATION:Erie Shores Campus Welcome Centre\, 197 Talbot Street West\, Leamington\, Ontario\, N8H 1N8
CATEGORIES:Staff-Led Programs
ATTACH;FMTTYPE=image/jpeg:https://www.thehospice.ca/wp-content/uploads/2024/01/Good-Grief-Web-Header-ES.jpg
END:VEVENT
END:VCALENDAR