BEGIN:VCALENDAR
VERSION:2.0
PRODID:-//Windsor Essex Hospice - ECPv6.15.20//NONSGML v1.0//EN
CALSCALE:GREGORIAN
METHOD:PUBLISH
X-ORIGINAL-URL:https://www.thehospice.ca
X-WR-CALDESC:Events for Windsor Essex Hospice
REFRESH-INTERVAL;VALUE=DURATION:PT1H
X-Robots-Tag:noindex
X-PUBLISHED-TTL:PT1H
BEGIN:VTIMEZONE
TZID:America/Toronto
BEGIN:DAYLIGHT
TZOFFSETFROM:-0500
TZOFFSETTO:-0400
TZNAME:EDT
DTSTART:20220313T070000
END:DAYLIGHT
BEGIN:STANDARD
TZOFFSETFROM:-0400
TZOFFSETTO:-0500
TZNAME:EST
DTSTART:20221106T060000
END:STANDARD
BEGIN:DAYLIGHT
TZOFFSETFROM:-0500
TZOFFSETTO:-0400
TZNAME:EDT
DTSTART:20230312T070000
END:DAYLIGHT
BEGIN:STANDARD
TZOFFSETFROM:-0400
TZOFFSETTO:-0500
TZNAME:EST
DTSTART:20231105T060000
END:STANDARD
BEGIN:DAYLIGHT
TZOFFSETFROM:-0500
TZOFFSETTO:-0400
TZNAME:EDT
DTSTART:20240310T070000
END:DAYLIGHT
BEGIN:STANDARD
TZOFFSETFROM:-0400
TZOFFSETTO:-0500
TZNAME:EST
DTSTART:20241103T060000
END:STANDARD
END:VTIMEZONE
BEGIN:VEVENT
DTSTART;TZID=America/Toronto:20231214T110000
DTEND;TZID=America/Toronto:20231214T123000
DTSTAMP:20260424T144413
CREATED:20231204T151518Z
LAST-MODIFIED:20231206T165737Z
UID:10003747-1702551600-1702557000@www.thehospice.ca
SUMMARY:W - Coping with the Holidays
DESCRIPTION:PREPARING FOR THE HOLIDAY SEASON WHILE GRIEVING\n  \nCriteria: Open to individuals who have experienced a loss within the last year and who are connected to Hospice \nDate: Thursday\, December 14th\, 2023 \nTime: 11:00 AM – 12:30 PM \nLocation: Hospice Windsor Administration Building #600. 6038 Empress St.\, Windsor ON N8T 1B5 \n  \nRegistration deadline is Friday\, December 8th\, 2023.  \nFor more information or to register\, please call (519) 974-7100.
URL:https://www.thehospice.ca/event/coping-with-the-holidays-2023/
LOCATION:Windsor Campus\, 6038 Empress Street\, Windsor\, Ontario\, N8T1B5\, Canada
CATEGORIES:Staff-Led Programs
ATTACH;FMTTYPE=image/jpeg:https://www.thehospice.ca/wp-content/uploads/2023/12/Web-scaled.jpg
END:VEVENT
END:VCALENDAR