BEGIN:VCALENDAR
VERSION:2.0
PRODID:-//Windsor Essex Hospice - ECPv6.15.20//NONSGML v1.0//EN
CALSCALE:GREGORIAN
METHOD:PUBLISH
X-ORIGINAL-URL:https://www.thehospice.ca
X-WR-CALDESC:Events for Windsor Essex Hospice
REFRESH-INTERVAL;VALUE=DURATION:PT1H
X-Robots-Tag:noindex
X-PUBLISHED-TTL:PT1H
BEGIN:VTIMEZONE
TZID:America/Toronto
BEGIN:DAYLIGHT
TZOFFSETFROM:-0500
TZOFFSETTO:-0400
TZNAME:EDT
DTSTART:20250309T070000
END:DAYLIGHT
BEGIN:STANDARD
TZOFFSETFROM:-0400
TZOFFSETTO:-0500
TZNAME:EST
DTSTART:20251102T060000
END:STANDARD
BEGIN:DAYLIGHT
TZOFFSETFROM:-0500
TZOFFSETTO:-0400
TZNAME:EDT
DTSTART:20260308T070000
END:DAYLIGHT
BEGIN:STANDARD
TZOFFSETFROM:-0400
TZOFFSETTO:-0500
TZNAME:EST
DTSTART:20261101T060000
END:STANDARD
BEGIN:DAYLIGHT
TZOFFSETFROM:-0500
TZOFFSETTO:-0400
TZNAME:EDT
DTSTART:20270314T070000
END:DAYLIGHT
BEGIN:STANDARD
TZOFFSETFROM:-0400
TZOFFSETTO:-0500
TZNAME:EST
DTSTART:20271107T060000
END:STANDARD
END:VTIMEZONE
BEGIN:VEVENT
DTSTART;TZID=America/Toronto:20260328T180000
DTEND;TZID=America/Toronto:20260328T180000
DTSTAMP:20260421T120309
CREATED:20251106T163153Z
LAST-MODIFIED:20260316T140621Z
UID:10010347-1774720800-1774720800@www.thehospice.ca
SUMMARY:The Hospice Gala
DESCRIPTION:SAVOUR THE SEA WITH HOSPICE!\nOur signature event of the year – filled with food\, fun\, and dancing for all! \nFor over 40 years\, this gala evening has highlighted the immense support our Hospice receives from our community. It is an opportunity to celebrate the work of our amazing team\, and thank our sponsors\, donors\, supporters\, and champions for their continued commitment to local Hospice patients and families. \nWe hope you will join us for an evening of delicious food and live entertainment while we dance the night away! \n  \nCost: $185.00/person \nDate: Saturday March 28\, 2026 \nTime: 6:00 PM \nLocation: The Giovanni Caboto Club \n  \n*Please note: this is a 19+ event \n  \nOnline ticket sales are now closed. To purchase tickets over the phone\, please call (226) 348-0768.  \n  \nSponsorship opportunities are available. Please call (519) 251-2594 for more information. \n  \nPRESENTED BY:
URL:https://www.thehospice.ca/event/the-hospice-gala-2026/
LOCATION:Giovanni Caboto Club\, 2175 Parent Ave\, Windsor\, Ontario\, N8X 4K2\, Canada
CATEGORIES:Gala
ATTACH;FMTTYPE=image/jpeg:https://www.thehospice.ca/wp-content/uploads/2025/11/Web-2026-scaled.jpg
END:VEVENT
END:VCALENDAR