BEGIN:VCALENDAR
VERSION:2.0
PRODID:-//Windsor Essex Hospice - ECPv6.15.20//NONSGML v1.0//EN
CALSCALE:GREGORIAN
METHOD:PUBLISH
X-WR-CALNAME:Windsor Essex Hospice
X-ORIGINAL-URL:https://www.thehospice.ca
X-WR-CALDESC:Events for Windsor Essex Hospice
REFRESH-INTERVAL;VALUE=DURATION:PT1H
X-Robots-Tag:noindex
X-PUBLISHED-TTL:PT1H
BEGIN:VTIMEZONE
TZID:America/Toronto
BEGIN:DAYLIGHT
TZOFFSETFROM:-0500
TZOFFSETTO:-0400
TZNAME:EDT
DTSTART:20250309T070000
END:DAYLIGHT
BEGIN:STANDARD
TZOFFSETFROM:-0400
TZOFFSETTO:-0500
TZNAME:EST
DTSTART:20251102T060000
END:STANDARD
BEGIN:DAYLIGHT
TZOFFSETFROM:-0500
TZOFFSETTO:-0400
TZNAME:EDT
DTSTART:20260308T070000
END:DAYLIGHT
BEGIN:STANDARD
TZOFFSETFROM:-0400
TZOFFSETTO:-0500
TZNAME:EST
DTSTART:20261101T060000
END:STANDARD
BEGIN:DAYLIGHT
TZOFFSETFROM:-0500
TZOFFSETTO:-0400
TZNAME:EDT
DTSTART:20270314T070000
END:DAYLIGHT
BEGIN:STANDARD
TZOFFSETFROM:-0400
TZOFFSETTO:-0500
TZNAME:EST
DTSTART:20271107T060000
END:STANDARD
END:VTIMEZONE
BEGIN:VEVENT
DTSTART;VALUE=DATE:20260422
DTEND;VALUE=DATE:20260427
DTSTAMP:20260422T072625
CREATED:20260129T145334Z
LAST-MODIFIED:20260421T200053Z
UID:10010879-1776816000-1777247999@www.thehospice.ca
SUMMARY:Hospice Dove Pin Campaign
DESCRIPTION:ABOUT THE HOSPICE DOVE PIN\nThe Hospice Dove Pin is a heartfelt way to show your support for our Hospice. All proceeds directly support Hospice care for patients and families in our community. We hope that you will wear one in memory of a loved one\, in honour of our Hospice patients and families\, or to show your support for our Hospice. \nThank you to our friends at Ground Effects LTD and Mega Mold International for designing and manufacturing these pins. \n  \nVOLUNTEER OPPORTUNITIES\nWe need volunteers to help collect donations and hand out dove pins at more than 30 locations across Windsor and Essex County. \nHere’s a few things you need to know: \n\nVolunteer shifts range between 3-4 hours\, and you can sign up for one (or more!)\nVolunteers are scheduled in pairs\, so register with a friend or family member\, or Hospice will match you up with someone great!\nThis event happens rain or shine; some stores will be set up inside\, some outside\nThere is no minimum donation for a pin\, all donations are appreciated\nTraining and support is provided before and during your shift\n\nQuestions? Please call (226) 348-0768 or email bsmith@thehospice.ca. \n  \nClick here to sign up for a volunteer shift.\n  \nDATES\nThese lapel pins are available by donation at various stores throughout Windsor-Essex the weekend of April 22  – 26\, 2026. \n  \nFor more information about the Hospice Dove Pin Campaign\, please call (519) 974-7100 or email bsmith@thehospice.ca. \n  \nLOCATIONS\n\nCounty of Essex – 360 Fairview Ave. W.\, Essex\nDental Health Centre – 3475 North Service Rd. E Unit A\, Windsor\nErie Shores Hospice Welcome Centre – 197 Talbot St. W. Suite 701\, Leamington\nGerry Gulliver’s Gifts – 194 Talbot St. West\, Leamington (inside of Erie Shores HealthCare)\nJake’s Windsor Brew Factory – 2785 Howard Ave\, Windsor\nKensington Court Retirement Residence – 1953 Cabana Rd. W.\, Windsor\nMacro Foods – 25 Amy Croft Dr. #23 A\, Tecumseh\nPomegranate Chinese Cuisine – 7816 Wyandotte St. E\, Windsor\nRARE Butcher – 35 Amy Croft Dr. Unit 4\, Lakeshore\nSchinkels’ Meat Market\, Essex – 24 Talbot St. N.\, Essex\nSeasons Retirement Communities in Royal Oak Village – 2400 Sandwich W. Pkwy.\, LaSalle\nTitanium Transportation Group Inc. – Windsor Terminal – 3315 Devon Dr.\, Windsor\nWilliams Food Equipment – 2150 Ambassador Dr.\, Windsor\n\nWindsor:\n\nMetro – Central Mall\, 3663 Tecumseh Rd. E.\nMetro – Devonshire Mall\, 3100 Howard Ave.\nMetro – 6740 Wyandotte St. E.\nRexall – 3840 Howard Ave.\nShoppers Drug Mart – Tecumseh Mall\, 7720 Tecumseh Rd. E.\nShoppers Drug Mart – 7980 Menard St.\nShoppers Drug Mart – 4835 Wyandotte St. E.\nReal Canadian Superstore – 4371 Walker Rd.\n\nTecumseh:\n\nFood Basics – 1655 Manning Rd.\nHome Hardware – 1613 Lesperance\nMetro – 11729 Tecumseh Rd. E.\nShoppers Drug Mart – 500 Manning Rd.\nSobeys – 19 Amy Croft Dr.\nZehrs – 400 Manning Rd.\n\nLeamington:\n\nShoppers Drug Mart – 269 Erie St. S\nReal Canadian Superstore – 201 Talbot St. E.\n\nKingsville:\n\nAnna’s Garden\, Home & Wellness – 1911 Seacliff Dr.\nColasanti’s Tropical Gardens – 1550 Rd. 3 E.\nSunshine Drugs – Kingsville IDA Pharmacy  – 271 Main St. E.\nZehrs – 300 Main St. E.\n\nEssex:\n\nNo Frills – 53 Arthur Ave.\nEssex Home Hardware Building Centre – 340 Maidstone Ave. W.\n\nBelle River:\n\nShoppers Drug Mart – 330 Notre Dame St.\nHome Hardware – 625 Notre Dame St.\n\nLaSalle:\n\nShoppers Drug Mart – 6020 Malden Rd.\nRexall – 5881 Malden Rd.\nZehrs – 5980 Malden Rd.\n\nAmherstburg:\n\nShoppers Drug Mart – 199 Sandwich St. S.\nSobeys – 93 Sandwich St. S.\n\n  \nWITH SUPPORT FROM
URL:https://www.thehospice.ca/event/hospice-dove-pin-campaign-2026/
LOCATION:Ontario
CATEGORIES:Fundraising Events
ATTACH;FMTTYPE=image/jpeg:https://www.thehospice.ca/wp-content/uploads/2026/01/2026-web-scaled.jpg
END:VEVENT
BEGIN:VEVENT
DTSTART;TZID=America/Toronto:20260422T130000
DTEND;TZID=America/Toronto:20260422T143000
DTSTAMP:20260422T072625
CREATED:20251024T143257Z
LAST-MODIFIED:20251024T143258Z
UID:10010338-1776862800-1776868200@www.thehospice.ca
SUMMARY:W - Good Grief Café: Drop-In Support Group
DESCRIPTION:The purpose of the group is to provide education on particular topics related to grief and create supportive connections through conversation and sharing with other group members. \n  \nCriteria: This group is open to adults (18 and over) who have lost a significant other and were involved in palliative or Hospice care within the last year\, either in the community or at the Hospice Residence \nLocation: Hospice Windsor Administration Building #600 \nRegistration: Please call (519) 974-7100 to register through Intake. \nMaximum Participants: 10-12; participants can join for any or all sessions \n  \nDates: Jan. 28 | Feb. 25 | Mar. 25 | Apr. 22 | May 27 | June 24 | July 22 | Aug. 26 | Sept. 23 | Oct. 28 | Nov. 25 | Dec. 23 \nTimes: 1:00 PM – 2:30 PM
URL:https://www.thehospice.ca/event/w-good-grief-cafe-drop-in-support-group/2026-04-22/
LOCATION:Windsor Campus\, 6038 Empress Street\, Windsor\, Ontario\, N8T1B5\, Canada
CATEGORIES:Staff-Led Programs
ATTACH;FMTTYPE=image/jpeg:https://www.thehospice.ca/wp-content/uploads/2024/01/Good-Grief-Web-Header.jpg
END:VEVENT
END:VCALENDAR